BEGIN:VCALENDAR
VERSION:2.0
PRODID:-//Café l&#039;Astronef - ECPv6.3.3.1//NONSGML v1.0//EN
CALSCALE:GREGORIAN
METHOD:PUBLISH
X-WR-CALNAME:Café l&#039;Astronef
X-ORIGINAL-URL:https://cafe-lastronef.fr
X-WR-CALDESC:évènements pour Café l&#039;Astronef
REFRESH-INTERVAL;VALUE=DURATION:PT1H
X-Robots-Tag:noindex
X-PUBLISHED-TTL:PT1H
BEGIN:VTIMEZONE
TZID:Europe/Paris
BEGIN:DAYLIGHT
TZOFFSETFROM:+0100
TZOFFSETTO:+0200
TZNAME:CEST
DTSTART:20220327T010000
END:DAYLIGHT
BEGIN:STANDARD
TZOFFSETFROM:+0200
TZOFFSETTO:+0100
TZNAME:CET
DTSTART:20221030T010000
END:STANDARD
END:VTIMEZONE
BEGIN:VEVENT
DTSTART;TZID=Europe/Paris:20220504T100000
DTEND;TZID=Europe/Paris:20220504T120000
DTSTAMP:20260425T012930
CREATED:20220419T112501Z
LAST-MODIFIED:20220419T112501Z
UID:19149-1651658400-1651665600@cafe-lastronef.fr
SUMMARY:Atelier Éveil musical avec Jenny
DESCRIPTION:Découverte de la musique avec Jenny\nÉveil corporel\, comptines à gestes\, chansons\, jeux\, explorations des instruments de musique …\nInformations et inscription:\nMail : jemajo@live.fr\nTel : 06 74 41 97 07\nTarif : participation prix libre\n 
URL:https://cafe-lastronef.fr/programmation/atelier-eveil-musical-avec-jenny/
LOCATION:L’Astronef\, 3 place des avions\, Toulouse\, 31400\, France
CATEGORIES:Atelier,Enfants,Eveil musical
ATTACH;FMTTYPE=image/jpeg:https://cafe-lastronef.fr/wp-content/uploads/2021/08/IMAGE-EVEIL-MUSICAL-1-e1629819495342.jpg
ORGANIZER;CN="Caf%C3%A9 L'Astronef":MAILTO:info@cafe-lastronef.fr
END:VEVENT
BEGIN:VEVENT
DTSTART;TZID=Europe/Paris:20220504T170000
DTEND;TZID=Europe/Paris:20220504T190000
DTSTAMP:20260425T012930
CREATED:20220419T112832Z
LAST-MODIFIED:20220419T112832Z
UID:19151-1651683600-1651690800@cafe-lastronef.fr
SUMMARY:Friperie enfant avec Frip'On
DESCRIPTION:Frip’On sera parmis nous pour vous proposer une friperie spéciale enfant ! Tout est à tarif libre ! Alors n’hésitez plus !
URL:https://cafe-lastronef.fr/programmation/friperie-enfant-avec-fripon-2/
LOCATION:L’Astronef\, 3 place des avions\, Toulouse\, 31400\, France
CATEGORIES:Enfants,Friperie
ORGANIZER;CN="Caf%C3%A9 L'Astronef":MAILTO:info@cafe-lastronef.fr
END:VEVENT
END:VCALENDAR