BEGIN:VCALENDAR
VERSION:2.0
PRODID:-//Café l&#039;Astronef - ECPv6.3.3.1//NONSGML v1.0//EN
CALSCALE:GREGORIAN
METHOD:PUBLISH
X-WR-CALNAME:Café l&#039;Astronef
X-ORIGINAL-URL:https://cafe-lastronef.fr
X-WR-CALDESC:évènements pour Café l&#039;Astronef
REFRESH-INTERVAL;VALUE=DURATION:PT1H
X-Robots-Tag:noindex
X-PUBLISHED-TTL:PT1H
BEGIN:VTIMEZONE
TZID:Europe/Paris
BEGIN:DAYLIGHT
TZOFFSETFROM:+0100
TZOFFSETTO:+0200
TZNAME:CEST
DTSTART:20220327T010000
END:DAYLIGHT
BEGIN:STANDARD
TZOFFSETFROM:+0200
TZOFFSETTO:+0100
TZNAME:CET
DTSTART:20221030T010000
END:STANDARD
END:VTIMEZONE
BEGIN:VEVENT
DTSTART;TZID=Europe/Paris:20220425T140000
DTEND;TZID=Europe/Paris:20220425T173000
DTSTAMP:20260424T235754
CREATED:20220317T195110Z
LAST-MODIFIED:20220329T142836Z
UID:19072-1650895200-1650907800@cafe-lastronef.fr
SUMMARY:Ateliers “La ville\, un jeu d’enfant” proposés par Le Bruit de La Conversation
DESCRIPTION:Durant les vacances de Pâques\, Le Bruit de la Conversation propose un cycle de 5 ateliers créatifs autour de la sensibilisation à la ville et à l’architecture. Le but ? Construire un esprit critique\, comprendre l’impact de nos modes de vie sur notre environnement et le vivre-ensemble\, réfléchir au rôle des citoyen.ne.s dans leur territoire\, renforcer l’imaginaire des enfants.\nAu programme : découverte des habitats du monde\, jeu sur l’évolution de la ville à partir de cartes historiques\, création en maquette d’une ville durable utopique. \nInformations pratiques : tous les jours du 25 au 29 avril  de 14h à 17h30 au café L’Astronef (quartier Saouzelong/Rangueil). Ateliers ouverts aux 8-14 ans. \nGratuit sur réservation à contact@lebruitdelaconversation.com ou au 07 67 28 87 11.
URL:https://cafe-lastronef.fr/programmation/ateliers-la-ville-un-jeu-denfant-proposes-par-le-bruit-de-la-conversation/2022-04-25/
LOCATION:L’Astronef\, 3 place des avions\, Toulouse\, 31400\, France
CATEGORIES:Atelier,Enfants,Urbanisme,Vacances
ORGANIZER;CN="Caf%C3%A9 L'Astronef":MAILTO:info@cafe-lastronef.fr
END:VEVENT
END:VCALENDAR