BEGIN:VCALENDAR
VERSION:2.0
PRODID:-//Café l&#039;Astronef - ECPv6.3.3.1//NONSGML v1.0//EN
CALSCALE:GREGORIAN
METHOD:PUBLISH
X-ORIGINAL-URL:https://cafe-lastronef.fr
X-WR-CALDESC:évènements pour Café l&#039;Astronef
REFRESH-INTERVAL;VALUE=DURATION:PT1H
X-Robots-Tag:noindex
X-PUBLISHED-TTL:PT1H
BEGIN:VTIMEZONE
TZID:Europe/Paris
BEGIN:DAYLIGHT
TZOFFSETFROM:+0100
TZOFFSETTO:+0200
TZNAME:CEST
DTSTART:20210328T010000
END:DAYLIGHT
BEGIN:STANDARD
TZOFFSETFROM:+0200
TZOFFSETTO:+0100
TZNAME:CET
DTSTART:20211031T010000
END:STANDARD
END:VTIMEZONE
BEGIN:VEVENT
DTSTART;TZID=Europe/Paris:20211208T170000
DTEND;TZID=Europe/Paris:20211208T200000
DTSTAMP:20260425T144810
CREATED:20211104T193704Z
LAST-MODIFIED:20211104T193704Z
UID:18639-1638982800-1638993600@cafe-lastronef.fr
SUMMARY:Friperie enfant avec Frip'On
DESCRIPTION:Frip’On sera parmis nous pour vous proposer une friperie spéciale enfant ! Tout est à tarif libre ! Alors n’hésitez plus !
URL:https://cafe-lastronef.fr/programmation/friperie-enfant-avec-fripon/
LOCATION:L’Astronef\, 3 place des avions\, Toulouse\, 31400\, France
CATEGORIES:Associatif,Enfants,Friperie
ATTACH;FMTTYPE=image/jpeg:https://cafe-lastronef.fr/wp-content/uploads/2021/11/FRIPERIE-e1636054599546.jpg
ORGANIZER;CN="Caf%C3%A9 L'Astronef":MAILTO:info@cafe-lastronef.fr
END:VEVENT
END:VCALENDAR