BEGIN:VCALENDAR
VERSION:2.0
PRODID:-//Café l&#039;Astronef - ECPv6.3.3.1//NONSGML v1.0//EN
CALSCALE:GREGORIAN
METHOD:PUBLISH
X-WR-CALNAME:Café l&#039;Astronef
X-ORIGINAL-URL:https://cafe-lastronef.fr
X-WR-CALDESC:évènements pour Café l&#039;Astronef
REFRESH-INTERVAL;VALUE=DURATION:PT1H
X-Robots-Tag:noindex
X-PUBLISHED-TTL:PT1H
BEGIN:VTIMEZONE
TZID:Europe/Paris
BEGIN:DAYLIGHT
TZOFFSETFROM:+0100
TZOFFSETTO:+0200
TZNAME:CEST
DTSTART:20210328T010000
END:DAYLIGHT
BEGIN:STANDARD
TZOFFSETFROM:+0200
TZOFFSETTO:+0100
TZNAME:CET
DTSTART:20211031T010000
END:STANDARD
END:VTIMEZONE
BEGIN:VEVENT
DTSTART;TZID=Europe/Paris:20211103T140000
DTEND;TZID=Europe/Paris:20211103T160000
DTSTAMP:20260419T194429
CREATED:20211001T120158Z
LAST-MODIFIED:20211001T120158Z
UID:18543-1635948000-1635955200@cafe-lastronef.fr
SUMMARY:"Pas Cap ?"  Projection d’un court-métrage pour enfants avec Toulouse en Transition
DESCRIPTION:Court métrage sur le monde après-pétrole\, par et pour les enfants. Suivi d’un débat. Gratuit\, 6-12 ans \nRéservation conseillée : letonnoir31@gmail.com \nPour plus d’infos sur Toulouse en Transition : https://www.facebook.com/toulouseen.transition/
URL:https://cafe-lastronef.fr/programmation/pas-cap-projection-dun-court-metrage-pour-enfants-avec-toulouse-en-transition/
LOCATION:L’Astronef\, 3 place des avions\, Toulouse\, 31400\, France
CATEGORIES:débat,Ecologie,Enfants,Projection
ATTACH;FMTTYPE=image/jpeg:https://cafe-lastronef.fr/wp-content/uploads/2021/10/Affiche-Pas-cap-scaled-e1633089555330.jpg
ORGANIZER;CN="Caf%C3%A9 L'Astronef":MAILTO:info@cafe-lastronef.fr
END:VEVENT
BEGIN:VEVENT
DTSTART;TZID=Europe/Paris:20211027T134500
DTEND;TZID=Europe/Paris:20211027T164500
DTSTAMP:20260419T194429
CREATED:20210927T131904Z
LAST-MODIFIED:20210927T131904Z
UID:18501-1635342300-1635353100@cafe-lastronef.fr
SUMMARY:Atelier enfant "Démasquez-vous"\, par Les petites fenêtres
DESCRIPTION:// Pass sanitaire obligatoire\, pas de contrôle d’identité // \nQu’est-ce qu’un masque ? Nous créerons celui qui nous convient\, animal\, humain ou autre. À partir de divers objets et matériaux de récupération\, nous expérimentons différentes techniques de fabrication et arborerons pour nous-même celui qui aura bien voulu éclore entre nos mains… \nAnimé par Océane Devillers \nPour les enfants de 7 à 10ans. Renseignements\, tarifs et inscriptions au : 06 33 84 59 23
URL:https://cafe-lastronef.fr/programmation/atelier-enfant-demasquez-vous-par-les-petites-fenetres/2021-10-27/
LOCATION:L’Astronef\, 3 place des avions\, Toulouse\, 31400\, France
CATEGORIES:Art plastique,Atelier,Enfants,Matèriaux de récupérations
ATTACH;FMTTYPE=image/png:https://cafe-lastronef.fr/wp-content/uploads/2021/09/AFFICHE_Dmaskvous_oct21.png
ORGANIZER;CN="Caf%C3%A9 L'Astronef":MAILTO:info@cafe-lastronef.fr
END:VEVENT
END:VCALENDAR