BEGIN:VCALENDAR
VERSION:2.0
PRODID:-//Café l&#039;Astronef - ECPv6.3.3.1//NONSGML v1.0//EN
CALSCALE:GREGORIAN
METHOD:PUBLISH
X-ORIGINAL-URL:https://cafe-lastronef.fr
X-WR-CALDESC:évènements pour Café l&#039;Astronef
REFRESH-INTERVAL;VALUE=DURATION:PT1H
X-Robots-Tag:noindex
X-PUBLISHED-TTL:PT1H
BEGIN:VTIMEZONE
TZID:Europe/Paris
BEGIN:DAYLIGHT
TZOFFSETFROM:+0100
TZOFFSETTO:+0200
TZNAME:CEST
DTSTART:20220327T010000
END:DAYLIGHT
BEGIN:STANDARD
TZOFFSETFROM:+0200
TZOFFSETTO:+0100
TZNAME:CET
DTSTART:20221030T010000
END:STANDARD
END:VTIMEZONE
BEGIN:VEVENT
DTSTART;TZID=Europe/Paris:20220903T210000
DTEND;TZID=Europe/Paris:20220903T233000
DTSTAMP:20260421T101056
CREATED:20220802T152811Z
LAST-MODIFIED:20220802T152811Z
UID:19309-1662238800-1662247800@cafe-lastronef.fr
SUMMARY:Concert de rentrée avec Edredon Sensible et The Rump Shakers
DESCRIPTION:21h: EDREDON SENSIBLE (transe hurlante) \nEdredon Sensible c’est quatre types qui battent des bras et qui soufflent. Ils se regardent avec les yeux dans les oreilles pour danser partout mais surtout par terre. Y’a aussi de la transpiration sur eux et si possible sur les autres. Leur passion ? Brûle Babylone mais toujours par la Bouche. Leur but ? La catharsis. L’éruption. Les petits guilis dans le cou qui font sentir qu’on est vivant. Edredon Sensible c’est quatre types. Deux qui battent des bras. Deux qui soufflent. Les morceaux ils sont hyper longs. C’est la transe. \nPour découvrir le groupe : \nhttps://www.facebook.com/EdredonSensible \nhttps://www.youtube.com/channel/UCUjwoZKciN8x588dJILUsMw \n  \n23h :  THE RUMP SHAKERS (dj’s à danser) \nEntrainé par des influences Funk\, Glitch\, Disco\, Jungle\, Hip-Hop\, Swing\, ou encore musique latine\, le collectif\, vous propose des soirées électro dans divers lieux Toulousains. Au programme\, de la bonne musique\, des coupes afros\, des chemises à fleurs et des collaborations avec d’autres artistes de la région. Les Rump Shakers vous promettent des soirées mémorables ! \nVenez nombreux.ses ! \nPour un petit aperçu : \nhttps://www.facebook.com/rumpshakersasso
URL:https://cafe-lastronef.fr/programmation/concert-de-rentree-avec-edredon-sensible-et-the-rump-shakers/
LOCATION:L’Astronef\, 3 place des avions\, Toulouse\, 31400\, France
CATEGORIES:Apéro,Concert,Danse,DJ,Fête,Musique,Rentrée,Transe
ATTACH;FMTTYPE=image/png:https://cafe-lastronef.fr/wp-content/uploads/2022/08/Sans-titre-e1659454046407.png
ORGANIZER;CN="Caf%C3%A9 L'Astronef":MAILTO:info@cafe-lastronef.fr
END:VEVENT
END:VCALENDAR