BEGIN:VCALENDAR
VERSION:2.0
PRODID:-//Café l&#039;Astronef - ECPv6.3.3.1//NONSGML v1.0//EN
CALSCALE:GREGORIAN
METHOD:PUBLISH
X-ORIGINAL-URL:https://cafe-lastronef.fr
X-WR-CALDESC:évènements pour Café l&#039;Astronef
REFRESH-INTERVAL;VALUE=DURATION:PT1H
X-Robots-Tag:noindex
X-PUBLISHED-TTL:PT1H
BEGIN:VTIMEZONE
TZID:Europe/Paris
BEGIN:DAYLIGHT
TZOFFSETFROM:+0100
TZOFFSETTO:+0200
TZNAME:CEST
DTSTART:20220327T010000
END:DAYLIGHT
BEGIN:STANDARD
TZOFFSETFROM:+0200
TZOFFSETTO:+0100
TZNAME:CET
DTSTART:20221030T010000
END:STANDARD
END:VTIMEZONE
BEGIN:VEVENT
DTSTART;TZID=Europe/Paris:20220326T210000
DTEND;TZID=Europe/Paris:20220326T233000
DTSTAMP:20260421T212648
CREATED:20220211T161442Z
LAST-MODIFIED:20220211T161442Z
UID:18971-1648328400-1648337400@cafe-lastronef.fr
SUMMARY:Concert Six Pack + DJ Maka
DESCRIPTION:21h: SIX PACK\nOriginaire de Toulouse\, le Six Pack est un mélange de R’n’B\, de soul et de funk\, brassé à la main par six musiciens et savamment distillé suivant la tradition\, tout en ajoutant sa touche personnelle. L’énergie\, le son et le sequin sont leur maître-mots\, à venir voir donc sans modération.\nPour découvrir : https://www.facebook.com/thesixpacktoulouse/\nhttps://www.youtube.com/channel/UCXDmcgpicYQKzxguKTL3O3A\n\n23h: DJ MAKA\nActeur incontournable de la scène swing/blues toulousaine\, Maka se met aux platines pour vous faire danser toute la soirée !\n 
URL:https://cafe-lastronef.fr/programmation/concert-six-pack-dj-maka/
LOCATION:L’Astronef\, 3 place des avions\, Toulouse\, 31400\, France
CATEGORIES:Apéro,Concert,Danse,Musique
ORGANIZER;CN="Caf%C3%A9 L'Astronef":MAILTO:info@cafe-lastronef.fr
END:VEVENT
END:VCALENDAR