BEGIN:VCALENDAR
VERSION:2.0
PRODID:-//Café l&#039;Astronef - ECPv6.3.3.1//NONSGML v1.0//EN
CALSCALE:GREGORIAN
METHOD:PUBLISH
X-ORIGINAL-URL:https://cafe-lastronef.fr
X-WR-CALDESC:évènements pour Café l&#039;Astronef
REFRESH-INTERVAL;VALUE=DURATION:PT1H
X-Robots-Tag:noindex
X-PUBLISHED-TTL:PT1H
BEGIN:VTIMEZONE
TZID:Europe/Paris
BEGIN:DAYLIGHT
TZOFFSETFROM:+0100
TZOFFSETTO:+0200
TZNAME:CEST
DTSTART:20220327T010000
END:DAYLIGHT
BEGIN:STANDARD
TZOFFSETFROM:+0200
TZOFFSETTO:+0100
TZNAME:CET
DTSTART:20221030T010000
END:STANDARD
END:VTIMEZONE
BEGIN:VEVENT
DTSTART;TZID=Europe/Paris:20220309T210000
DTEND;TZID=Europe/Paris:20220309T223000
DTSTAMP:20260421T231025
CREATED:20220207T170328Z
LAST-MODIFIED:20220207T170328Z
UID:18940-1646859600-1646865000@cafe-lastronef.fr
SUMMARY:Concert Tierras Flamencas (Flamenco\, musique et danse)
DESCRIPTION:« Tierras Flamencas » est un collectif qui réunit des artistes professionnels de divers horizons autour d’une passion commune : le flamenco.\nNé à Séville en Andalousie\, le projet Tierras Flamencas vous propose de découvrir les sensations fortes du Flamenco traditionnel dans un spectacle puissant et festif au format tablao. Petit ou grand\, venez voyager avec nous jusqu’au sud de l’Espagne. Direction l’Andalousie !”
URL:https://cafe-lastronef.fr/programmation/concert-tierras-flamencas-flamenco-musique-et-danse/
LOCATION:L’Astronef\, 3 place des avions\, Toulouse\, 31400\, France
CATEGORIES:Concert,Danse,Flamenco,Musique
ORGANIZER;CN="Caf%C3%A9 L'Astronef":MAILTO:info@cafe-lastronef.fr
END:VEVENT
BEGIN:VEVENT
DTSTART;TZID=Europe/Paris:20220312T210000
DTEND;TZID=Europe/Paris:20220312T233000
DTSTAMP:20260421T231025
CREATED:20220215T153328Z
LAST-MODIFIED:20220215T153328Z
UID:19006-1647118800-1647127800@cafe-lastronef.fr
SUMMARY:ANNIVERSAIRE DES 4 ANS DE L’ASTRONEF // SOIRÉE FOURRURE COSMIQUE //
DESCRIPTION:L’Astronef fête ses 3 ans… Heuuu ses 4 ans ! On s’est fait voler nos 3 ans l’année passée\, alors on vous propose pour cette année une DOUBLE fiesta\, avec deux concerts\, deux stands de paillettes\, 2*2 bières pressions\, deux fois plus d’animations et bien sûr deux fois plus de love ! DRESSCODE : léopard étoilé\, paillete tigrée…la savane étoilée s’invite à l’Astronef ! Stand de paillettes sur place. \n21h : Bombay Club \n❿ Imagine un thème Bollywood bien kitch des années 60 ou 70’s\, tu  plaques derrière une rythmique rare funk sans faille\, un chant en hindglish et tu obtiens le Bombay Club. \n❿ Imagine un chanteur\, totalement décomplexé\, qui pense être le  nouveau James Brown mais également la star actuelle du cinéma  Bollywood\, à la fois mégalo et si attendrissant et tu obtiens le  Bombay Club  \n❿ Imagine des musiciens tout droit sortis du mouvement noir  américain «Black – exploitation»\, tu leur mets un beau costume et  un joli point rouge sur le front\, tu les baptises les « Curry Boys »\, et  tu obtiens les inventeurs d’un nouveau mouvement musical :  « la Curry- exploitation » \nDans le Bombay Club\, tu retrouves Julian Babou à la batterie\, Tim Sussin à  la guitare\, Kevin Balzan Dorias à la basse\, Arthur Guyard au clavier et  Olivier Miraglia au chant. Le spectacle est un aller retour permanent entre la musique et la comédie  telle une bande originale sur un film de série B. Avec un répertoire de derrière les fagots\, le Bombay Club est une vraie machine à danser et à  rire ! \n23h : I.S QUARTET \nLe langage virtuose et l’esthétique décalée de Knower  et de ses deux leaders Louis Cole et Geneviève Artadi\,  associé à la démarche d’un DJ set sans pause  donne un  cocktail explosif où la créativité\, la virtuosité\, l’inspiration  grooves funk électro des musiciens s’exprime librement. \nAvec ISsa souriant (keyboard)\, curtIS efoua ela (drum\, machines)\, IdrisS félix bahri (bass) et nIcolaS algans (trumpet\, machines) \nPréparez-vous à embarquer pour un voyage déluré\, entraîné au rythme des déflagrations stellaires et des éruptions cosmiques !
URL:https://cafe-lastronef.fr/programmation/anniversaire-des-4-ans-de-lastronef-soiree-fourrure-cosmique/
LOCATION:L’Astronef\, 3 place des avions\, Toulouse\, 31400\, France
CATEGORIES:Anniversaire,Apéro,Concert,Danse,Fourrure,Musique,Quartier,Rencontres
ORGANIZER;CN="Caf%C3%A9 L'Astronef":MAILTO:info@cafe-lastronef.fr
END:VEVENT
END:VCALENDAR