BEGIN:VCALENDAR
VERSION:2.0
PRODID:-//Café l&#039;Astronef - ECPv6.3.3.1//NONSGML v1.0//EN
CALSCALE:GREGORIAN
METHOD:PUBLISH
X-ORIGINAL-URL:https://cafe-lastronef.fr
X-WR-CALDESC:évènements pour Café l&#039;Astronef
REFRESH-INTERVAL;VALUE=DURATION:PT1H
X-Robots-Tag:noindex
X-PUBLISHED-TTL:PT1H
BEGIN:VTIMEZONE
TZID:Europe/Paris
BEGIN:DAYLIGHT
TZOFFSETFROM:+0100
TZOFFSETTO:+0200
TZNAME:CEST
DTSTART:20220327T010000
END:DAYLIGHT
BEGIN:STANDARD
TZOFFSETFROM:+0200
TZOFFSETTO:+0100
TZNAME:CET
DTSTART:20221030T010000
END:STANDARD
END:VTIMEZONE
BEGIN:VEVENT
DTSTART;TZID=Europe/Paris:20220226T210000
DTEND;TZID=Europe/Paris:20220226T233000
DTSTAMP:20260422T040709
CREATED:20220124T131353Z
LAST-MODIFIED:20220124T131353Z
UID:18878-1645909200-1645918200@cafe-lastronef.fr
SUMMARY:Fanfares en folies ! Concert des Filibusters + Gimmick Five Syndicate
DESCRIPTION:Soirée fanfare en pagaille !\nRendez vous le samedi 26 février pour danser\, suer et manger des cuivres !\n\nAu programme :\n21h: FILIBUSTERS\nFanfare Pirate (News Orleans & Surf Music)\nFanfare pirate à géométrie variable\, Filibusters proposent un répertoire naviguant des eaux troubles du Funk aux tempêtes les plus Rock’n Roll.\nQuand l’énergie des solos rencontre l’efficacité de la rythmique\, la traversée s’annonce mouvementée…\nBienvenue à bord !\nPour un petit piratage :\nhttps://www.youtube.com/watch?v=CA8ZvH7D7EQ\n\n23h : GIMMICK FIVE SYNDICATE\nFanfare Electro – Fwing (Aux croisements de l’électro\, du funk et du swing)\nMontée en 2011 par d’anciens membres des Trous Balourds\, cette jeune formation hors-piste groovy et pêchue est pleine d’amour\, de rires\, de joie\, de volupté\, d’allégresse et de Picon bière.\nLeur répertoire mêlant compositions et reprises inattendues (de Prodigy à Martin Circus en passant par Benny Goodman et Stevie Wonder) vous fera sans aucun doute kiffer la vibe\, shaker votre booty et taper un rigaudon endiablé sur le dancefloor.\nBref\, le G5S est un mix de bisous et de blues\, de punk à chiens et de funk à chat\, de rillettes et de paillettes\, de syndicat et de paprika.\nPour commencer les revendications syndicales :\nhttps://www.youtube.com/watch?v=r2YZDuaYxTg\n 
URL:https://cafe-lastronef.fr/programmation/fanfares-en-folies-concert-des-filibusters-gimmick-five-syndicate/
LOCATION:L’Astronef\, 3 place des avions\, Toulouse\, 31400\, France
CATEGORIES:Apéro,Concert,Danse,Musique
ORGANIZER;CN="Caf%C3%A9 L'Astronef":MAILTO:info@cafe-lastronef.fr
END:VEVENT
END:VCALENDAR