BEGIN:VCALENDAR
VERSION:2.0
PRODID:-//Café l&#039;Astronef - ECPv6.3.3.1//NONSGML v1.0//EN
CALSCALE:GREGORIAN
METHOD:PUBLISH
X-WR-CALNAME:Café l&#039;Astronef
X-ORIGINAL-URL:https://cafe-lastronef.fr
X-WR-CALDESC:évènements pour Café l&#039;Astronef
REFRESH-INTERVAL;VALUE=DURATION:PT1H
X-Robots-Tag:noindex
X-PUBLISHED-TTL:PT1H
BEGIN:VTIMEZONE
TZID:Europe/Paris
BEGIN:DAYLIGHT
TZOFFSETFROM:+0100
TZOFFSETTO:+0200
TZNAME:CEST
DTSTART:20210328T010000
END:DAYLIGHT
BEGIN:STANDARD
TZOFFSETFROM:+0200
TZOFFSETTO:+0100
TZNAME:CET
DTSTART:20211031T010000
END:STANDARD
END:VTIMEZONE
BEGIN:VEVENT
DTSTART;TZID=Europe/Paris:20211030T210000
DTEND;TZID=Europe/Paris:20211030T233000
DTSTAMP:20260422T034742
CREATED:20210927T133704Z
LAST-MODIFIED:20210927T133704Z
UID:18511-1635627600-1635636600@cafe-lastronef.fr
SUMMARY:Concerts Tangled Tape + The Rump Shakers
DESCRIPTION:// Pass sanitaire obligatoire\, pas de contrôle d’identité // \nSOIREE CONCERT AVEC : \nTangled Tape* n’a pas trouvé son nom par hasard : si son matériel de base est la soul\, c’est bien en mêlant les styles et les époques que le son du quintet toulousain se révèle. Né de la rencontre du beatmaker Solen Goffi et de la voix lumineuse d’Ornella Mesplé-Somps\, le groupe crée une brèche temporelle où J Dilla rencontre Curtis Mayfield et Al Green pactise avec Morcheeba. Sublimant la soul d’hier et d’aujourd’hui\, Tangled Tape vous surprendra par son univers magnétique. *cassette emmêlée \n The Rump Shakers (ghetto funk) \nEntraîné par des influences Funk\, Glitch\, Disco\, Jungle\, Hip-Hop\, Swing\, ou encore musique latine\, le collectif\, réuni autour des artistes Psymo (aka PHNX)\, Slump in Rythm et Dopa\, vous propose des soirées mémorables . Au programme\, de la bonne musique\, des coupes afros\, des chemises à fleurs et des kilomètres de dancefloor à fracasser
URL:https://cafe-lastronef.fr/programmation/concerts-tangled-tape-the-rump-shakers/
LOCATION:L’Astronef\, 3 place des avions\, Toulouse\, 31400\, France
CATEGORIES:Apéro,Concert,Danse,Musique
ATTACH;FMTTYPE=image/jpeg:https://cafe-lastronef.fr/wp-content/uploads/2021/09/TANGLED-TAPE-THE-RUMPSHAKERS-e1632749806794.jpg
ORGANIZER;CN="Caf%C3%A9 L'Astronef":MAILTO:info@cafe-lastronef.fr
END:VEVENT
END:VCALENDAR