BEGIN:VCALENDAR
VERSION:2.0
PRODID:-//Café l&#039;Astronef - ECPv6.3.3.1//NONSGML v1.0//EN
CALSCALE:GREGORIAN
METHOD:PUBLISH
X-WR-CALNAME:Café l&#039;Astronef
X-ORIGINAL-URL:https://cafe-lastronef.fr
X-WR-CALDESC:évènements pour Café l&#039;Astronef
REFRESH-INTERVAL;VALUE=DURATION:PT1H
X-Robots-Tag:noindex
X-PUBLISHED-TTL:PT1H
BEGIN:VTIMEZONE
TZID:Europe/Paris
BEGIN:DAYLIGHT
TZOFFSETFROM:+0100
TZOFFSETTO:+0200
TZNAME:CEST
DTSTART:20210328T010000
END:DAYLIGHT
BEGIN:STANDARD
TZOFFSETFROM:+0200
TZOFFSETTO:+0100
TZNAME:CET
DTSTART:20211031T010000
END:STANDARD
BEGIN:DAYLIGHT
TZOFFSETFROM:+0100
TZOFFSETTO:+0200
TZNAME:CEST
DTSTART:20220327T010000
END:DAYLIGHT
BEGIN:STANDARD
TZOFFSETFROM:+0200
TZOFFSETTO:+0100
TZNAME:CET
DTSTART:20221030T010000
END:STANDARD
BEGIN:DAYLIGHT
TZOFFSETFROM:+0100
TZOFFSETTO:+0200
TZNAME:CEST
DTSTART:20230326T010000
END:DAYLIGHT
BEGIN:STANDARD
TZOFFSETFROM:+0200
TZOFFSETTO:+0100
TZNAME:CET
DTSTART:20231029T010000
END:STANDARD
END:VTIMEZONE
BEGIN:VEVENT
DTSTART;TZID=Europe/Paris:20230905T183000
DTEND;TZID=Europe/Paris:20230905T203000
DTSTAMP:20260419T200514
CREATED:20230829T131600Z
LAST-MODIFIED:20230829T131600Z
UID:20004-1693938600-1693945800@cafe-lastronef.fr
SUMMARY:Café bricol'
DESCRIPTION:Votre grille-pain ne grille plus ? Votre sèche-cheveux souffle à l’envers ?Venez avec quelques outils\, votre appareil défectueux et votre bonne humeur et une équipe de bénévoles-bricoleurs vous aidera à réparer ce qui semble irréparable !Participation souhaitée pour l’outillage et les fournitures.
URL:https://cafe-lastronef.fr/programmation/cafe-bricol-18/
LOCATION:L’Astronef\, 3 place des avions\, Toulouse\, 31400\, France
CATEGORIES:Alternatives,Anti gaspi,Associatif,Bricolage,Café bricol,Seconde main
ATTACH;FMTTYPE=image/jpeg:https://cafe-lastronef.fr/wp-content/uploads/2022/01/Café-bricol-scaled-e1647446717565.jpg
ORGANIZER;CN="Caf%C3%A9 L'Astronef":MAILTO:info@cafe-lastronef.fr
END:VEVENT
BEGIN:VEVENT
DTSTART;TZID=Europe/Paris:20230110T183000
DTEND;TZID=Europe/Paris:20230110T210000
DTSTAMP:20260419T200514
CREATED:20221215T140255Z
LAST-MODIFIED:20221215T140255Z
UID:19595-1673375400-1673384400@cafe-lastronef.fr
SUMMARY:Café bricol'
DESCRIPTION:Votre grille-pain ne grille plus ? Votre sèche-cheveux souffle à l’envers ? \nVenez avec quelques outils\, votre appareil défectueux et votre bonne humeur et une équipe de bénévoles-bricoleurs vous aidera à réparer ce qui semble irréparable ! \nParticipation souhaitée pour l’outillage et les fournitures
URL:https://cafe-lastronef.fr/programmation/cafe-bricol-12/
LOCATION:L’Astronef\, 3 place des avions\, Toulouse\, 31400\, France
CATEGORIES:Alternative,Anti gaspi,Associatif,Bricolage,Seconde main
ATTACH;FMTTYPE=image/jpeg:https://cafe-lastronef.fr/wp-content/uploads/2022/01/Café-bricol-scaled-e1647446717565.jpg
ORGANIZER;CN="Caf%C3%A9 L'Astronef":MAILTO:info@cafe-lastronef.fr
END:VEVENT
BEGIN:VEVENT
DTSTART;TZID=Europe/Paris:20221206T183000
DTEND;TZID=Europe/Paris:20221206T200000
DTSTAMP:20260419T200514
CREATED:20221119T152107Z
LAST-MODIFIED:20221119T152107Z
UID:19543-1670351400-1670356800@cafe-lastronef.fr
SUMMARY:Café bricol'
DESCRIPTION:Votre grille-pain ne grille plus ? Votre sèche-cheveux souffle à l’envers ? Venez avec quelques outils\, votre appareil défectueux et votre bonne humeur et une équipe de bénévoles-bricoleurs vous aidera à réparer ce qui semble irréparable ! \nParticipation souhaitée pour l’outillage et les fournitures \n 
URL:https://cafe-lastronef.fr/programmation/cafe-bricol-11/
LOCATION:L’Astronef\, 3 place des avions\, Toulouse\, 31400\, France
CATEGORIES:Alternatives,Associatif,Bricolage
ATTACH;FMTTYPE=image/jpeg:https://cafe-lastronef.fr/wp-content/uploads/2022/01/Café-bricol-scaled-e1647446717565.jpg
ORGANIZER;CN="Caf%C3%A9 L'Astronef":MAILTO:info@cafe-lastronef.fr
END:VEVENT
BEGIN:VEVENT
DTSTART;TZID=Europe/Paris:20221004T183000
DTEND;TZID=Europe/Paris:20221004T210000
DTSTAMP:20260419T200514
CREATED:20220802T164114Z
LAST-MODIFIED:20220802T164114Z
UID:19351-1664908200-1664917200@cafe-lastronef.fr
SUMMARY:Café bricol'
DESCRIPTION:Votre grille-pain ne grille plus ? Votre sèche-cheveux souffle à l’envers ? \nVenez avec quelques outils\, votre appareil défectueux et votre bonne humeur et une équipe de bénévoles-bricoleurs vous aidera à réparer ce qui semble irréparable ! \nParticipation souhaitée pour l’outillage et les fournitures.
URL:https://cafe-lastronef.fr/programmation/cafe-bricol-8/
LOCATION:L’Astronef\, 3 place des avions\, Toulouse\, 31400\, France
CATEGORIES:Apéro,Bricolage,Récupération
ATTACH;FMTTYPE=image/jpeg:https://cafe-lastronef.fr/wp-content/uploads/2022/01/Café-bricol-scaled-e1647446717565.jpg
ORGANIZER;CN="Caf%C3%A9 L'Astronef":MAILTO:info@cafe-lastronef.fr
END:VEVENT
BEGIN:VEVENT
DTSTART;TZID=Europe/Paris:20220906T183000
DTEND;TZID=Europe/Paris:20220906T210000
DTSTAMP:20260419T200514
CREATED:20220802T155931Z
LAST-MODIFIED:20220802T155931Z
UID:19312-1662489000-1662498000@cafe-lastronef.fr
SUMMARY:Café bricol'
DESCRIPTION:Votre grille-pain ne grille plus ? Votre sèche-cheveux souffle à l’envers ?\nVenez avec quelques outils\, votre appareil défectueux et votre bonne humeur et une équipe de bénévoles-bricoleurs vous aidera à réparer ce qui semble irréparable !\nParticipation libre pour l’outillage et les fournitures\n 
URL:https://cafe-lastronef.fr/programmation/cafe-bricol-7/
LOCATION:L’Astronef\, 3 place des avions\, Toulouse\, 31400\, France
CATEGORIES:Alternatives,Apéro,Bricolage,Récupération
ATTACH;FMTTYPE=image/jpeg:https://cafe-lastronef.fr/wp-content/uploads/2022/01/Café-bricol-scaled-e1647446717565.jpg
ORGANIZER;CN="Caf%C3%A9 L'Astronef":MAILTO:info@cafe-lastronef.fr
END:VEVENT
BEGIN:VEVENT
DTSTART;TZID=Europe/Paris:20220607T183000
DTEND;TZID=Europe/Paris:20220607T220000
DTSTAMP:20260419T200514
CREATED:20220516T090938Z
LAST-MODIFIED:20220516T090938Z
UID:19214-1654626600-1654639200@cafe-lastronef.fr
SUMMARY:Café bricol'
DESCRIPTION:Votre grille-pain ne grille plus ? Votre sèche-cheveux souffle à l’envers ?\nRendez-vous à l’Envolée\, au-dessus de l’Astronef. Venez avec quelques outils\, votre appareil défectueux et votre bonne humeur et une équipe de bénévoles-bricoleurs vous aidera à réparer ce qui semble irréparable ! \nParticipation libre pour l’outillage et les fournitures
URL:https://cafe-lastronef.fr/programmation/cafe-bricol-6/
LOCATION:L’Astronef\, 3 place des avions\, Toulouse\, 31400\, France
CATEGORIES:Apéro,Bricolage,Seconde main
ATTACH;FMTTYPE=image/jpeg:https://cafe-lastronef.fr/wp-content/uploads/2022/01/Café-bricol-scaled-e1647446717565.jpg
ORGANIZER;CN="Caf%C3%A9 L'Astronef":MAILTO:info@cafe-lastronef.fr
END:VEVENT
BEGIN:VEVENT
DTSTART;TZID=Europe/Paris:20220503T183000
DTEND;TZID=Europe/Paris:20220503T200000
DTSTAMP:20260419T200514
CREATED:20220419T112042Z
LAST-MODIFIED:20220419T112042Z
UID:19147-1651602600-1651608000@cafe-lastronef.fr
SUMMARY:Café bricol'
DESCRIPTION:Votre grille-pain ne grille plus ? Votre sèche-cheveux souffle à l’envers ?\nRendez-vous à l’Envolée\, au-dessus de l’Astronef. Venez avec quelques outils\, votre appareil défectueux et votre bonne humeur et une équipe de bénévoles-bricoleurs vous aidera à réparer ce qui semble irréparable ! \n  \n 
URL:https://cafe-lastronef.fr/programmation/cafe-bricol-5/
LOCATION:L’Astronef\, 3 place des avions\, Toulouse\, 31400\, France
CATEGORIES:Apéro,Bricolage,Partage
ATTACH;FMTTYPE=image/jpeg:https://cafe-lastronef.fr/wp-content/uploads/2022/01/Café-bricol-scaled-e1647446717565.jpg
ORGANIZER;CN="Caf%C3%A9 L'Astronef":MAILTO:info@cafe-lastronef.fr
END:VEVENT
BEGIN:VEVENT
DTSTART;TZID=Europe/Paris:20220405T183000
DTEND;TZID=Europe/Paris:20220405T213000
DTSTAMP:20260419T200514
CREATED:20220316T160842Z
LAST-MODIFIED:20220316T160842Z
UID:19029-1649183400-1649194200@cafe-lastronef.fr
SUMMARY:Café bricol’
DESCRIPTION:Votre grille-pain ne grille plus ? Votre sèche-cheveux souffle à l’envers ? \nRendez-vous à l’Envolée\, au-dessus de l’Astronef. Venez avec quelques outils\, votre appareil défectueux et votre bonne humeur et une équipe de bénévoles-bricoleurs vous aidera à réparer ce qui semble irréparable !
URL:https://cafe-lastronef.fr/programmation/cafe-bricol-4/
LOCATION:L’Astronef\, 3 place des avions\, Toulouse\, 31400\, France
CATEGORIES:Alternatives,Apéro,Associatif,Bricolage
ATTACH;FMTTYPE=image/jpeg:https://cafe-lastronef.fr/wp-content/uploads/2021/11/Café-bricol-2-scaled-e1636052045409.jpg
ORGANIZER;CN="Caf%C3%A9 L'Astronef":MAILTO:info@cafe-lastronef.fr
END:VEVENT
BEGIN:VEVENT
DTSTART;TZID=Europe/Paris:20220301T183000
DTEND;TZID=Europe/Paris:20220301T210000
DTSTAMP:20260419T200514
CREATED:20220207T160937Z
LAST-MODIFIED:20220207T160937Z
UID:18903-1646159400-1646168400@cafe-lastronef.fr
SUMMARY:Café bricol'
DESCRIPTION:Votre grille-pain ne grille plus ? Votre sèche-cheveux souffle à l’envers ? \nRendez-vous à l’Envolée\, au-dessus de l’Astronef. Venez avec quelques outils\, votre appareil défectueux et votre bonne humeur et une équipe de bénévoles-bricoleurs vous aidera à réparer ce qui semble irréparable !
URL:https://cafe-lastronef.fr/programmation/cafe-bricol-3/
LOCATION:L’Astronef\, 3 place des avions\, Toulouse\, 31400\, France
CATEGORIES:Alternatives,Apéro,Atelier,Bricolage,Ecologie,Matèriaux de récupérations,Quartier,Solidarité
ATTACH;FMTTYPE=image/jpeg:https://cafe-lastronef.fr/wp-content/uploads/2021/11/Café-bricol-2-scaled-e1636052045409.jpg
ORGANIZER;CN="Caf%C3%A9 L'Astronef":MAILTO:info@cafe-lastronef.fr
END:VEVENT
BEGIN:VEVENT
DTSTART;TZID=Europe/Paris:20220201T183000
DTEND;TZID=Europe/Paris:20220201T203000
DTSTAMP:20260419T200514
CREATED:20220119T151253Z
LAST-MODIFIED:20220119T151253Z
UID:18823-1643740200-1643747400@cafe-lastronef.fr
SUMMARY:Café bricol'
DESCRIPTION:Votre grille-pain ne grille plus ? Votre sèche-cheveux souffle à l’envers ? \nRendez-vous à l’Envolée\, au-dessus de l’Astronef. Venez avec quelques outils\, votre appareil défectueux et votre bonne humeur et une équipe de bénévoles-bricoleurs vous aidera à réparer ce qui semble irréparable !
URL:https://cafe-lastronef.fr/programmation/cafe-bricol-2/
LOCATION:L’Astronef\, 3 place des avions\, Toulouse\, 31400\, France
CATEGORIES:Apéro,Bricolage,Education populaire,Rencontres
ATTACH;FMTTYPE=image/jpeg:https://cafe-lastronef.fr/wp-content/uploads/2021/11/Café-bricol-2-scaled-e1636052045409.jpg
ORGANIZER;CN="Caf%C3%A9 L'Astronef":MAILTO:info@cafe-lastronef.fr
END:VEVENT
BEGIN:VEVENT
DTSTART;TZID=Europe/Paris:20211201T183000
DTEND;TZID=Europe/Paris:20211201T203000
DTSTAMP:20260419T200514
CREATED:20211104T185432Z
LAST-MODIFIED:20211104T185432Z
UID:18628-1638383400-1638390600@cafe-lastronef.fr
SUMMARY:Café Bricol'
DESCRIPTION:Votre grille-pain ne grille plus ? Votre sèche-cheveux souffle à l’envers ? \nRendez-vous à l’Envolée\, au-dessus de l’Astronef.  Venez avec quelques outils\, votre appareil défectueux et votre bonne humeur et une équipe de bénévoles-bricoleurs vous aidera à réparer ce qui semble irréparable !
URL:https://cafe-lastronef.fr/programmation/cafe-bricol/
LOCATION:L’Astronef\, 3 place des avions\, Toulouse\, 31400\, France
CATEGORIES:Apéro,Bricolage,Ecologie,Solidarité
ATTACH;FMTTYPE=image/jpeg:https://cafe-lastronef.fr/wp-content/uploads/2021/11/Café-bricol-2-scaled-e1636052045409.jpg
ORGANIZER;CN="Caf%C3%A9 L'Astronef":MAILTO:info@cafe-lastronef.fr
END:VEVENT
BEGIN:VEVENT
DTSTART;TZID=Europe/Paris:20211112T133000
DTEND;TZID=Europe/Paris:20211112T163000
DTSTAMP:20260419T200514
CREATED:20211102T145608Z
LAST-MODIFIED:20211102T145608Z
UID:18574-1636723800-1636734600@cafe-lastronef.fr
SUMMARY:Atelier de création plastique
DESCRIPTION:Avec les moyens du bord nous créons des mondes imaginaires dans des boîtes à chaussures.\nUne thématique différente est proposée à chaque atelier\, qui fait fonction de cadre de démarrage. Océane encourage une dimension de coopération adulte-enfant où l’on fabrique ensemble suivant un projet élaboré commun. \nTout public. \nPour plus de renseignements\, tarifs et inscriptions\, contactez Océane au : 06 33 84 59 23
URL:https://cafe-lastronef.fr/programmation/atelier-de-creation-plastique-2/2021-11-12/
LOCATION:L’Astronef\, 3 place des avions\, Toulouse\, 31400\, France
CATEGORIES:Art plastique,Associatif,Atelier,Bricolage,Enfants,Matèriaux de récupérations
ATTACH;FMTTYPE=image/jpeg:https://cafe-lastronef.fr/wp-content/uploads/2021/11/création-plastique-océane-e1636055183931.jpg
ORGANIZER;CN="Caf%C3%A9 L'Astronef":MAILTO:info@cafe-lastronef.fr
END:VEVENT
END:VCALENDAR