BEGIN:VCALENDAR
VERSION:2.0
PRODID:-//Café l&#039;Astronef - ECPv6.3.3.1//NONSGML v1.0//EN
CALSCALE:GREGORIAN
METHOD:PUBLISH
X-WR-CALNAME:Café l&#039;Astronef
X-ORIGINAL-URL:https://cafe-lastronef.fr
X-WR-CALDESC:évènements pour Café l&#039;Astronef
REFRESH-INTERVAL;VALUE=DURATION:PT1H
X-Robots-Tag:noindex
X-PUBLISHED-TTL:PT1H
BEGIN:VTIMEZONE
TZID:Europe/Paris
BEGIN:DAYLIGHT
TZOFFSETFROM:+0100
TZOFFSETTO:+0200
TZNAME:CEST
DTSTART:20260329T010000
END:DAYLIGHT
BEGIN:STANDARD
TZOFFSETFROM:+0200
TZOFFSETTO:+0100
TZNAME:CET
DTSTART:20261025T010000
END:STANDARD
END:VTIMEZONE
BEGIN:VEVENT
DTSTART;TZID=Europe/Paris:20260425T203000
DTEND;TZID=Europe/Paris:20260425T203000
DTSTAMP:20260425T030127
CREATED:20260403T082711Z
LAST-MODIFIED:20260403T082711Z
UID:22517-1777149000-1777149000@cafe-lastronef.fr
SUMMARY:Concert : Tchaï Kolectiv
DESCRIPTION:Tchaï Kolectiv\, c’est une famille musicale où l’on chante\, on joue\, on danse\, toujours avec passion et une intensité tourbillonnante ! Accordéons\, vents\, cordes\, percussions\, voix se déchaînent et vous embarquent dans un voyage musical à travers les balkans avec leur grain de folie créatrice ! \nEntre 8 et 12 sur scène\, ce collectif d’artistes venu. es d’Ariège se réunit pour vous enchanter et enflammer la piste de danse ! \nhttps://www.instagram.com/tchai_kolectiv?igsh=a2lzbmxicnJqOHN5 \nhttps://www.facebook.com/share/1L9TVrMxwQ/ \nhttps://youtube.com/@tchaikolectiv?si=uRcQ5u7fi4wTS3Vu \n 
URL:https://cafe-lastronef.fr/programmation/concert-tchai-kolectiv/
LOCATION:L’Astronef\, 3 place des avions\, Toulouse\, 31400\, France
ATTACH;FMTTYPE=image/jpeg:https://cafe-lastronef.fr/wp-content/uploads/2026/04/tCHAI-kolectiv.jpg
ORGANIZER;CN="Caf%C3%A9 L'Astronef":MAILTO:info@cafe-lastronef.fr
END:VEVENT
END:VCALENDAR