BEGIN:VCALENDAR
VERSION:2.0
PRODID:-//Café l&#039;Astronef - ECPv6.3.3.1//NONSGML v1.0//EN
CALSCALE:GREGORIAN
METHOD:PUBLISH
X-WR-CALNAME:Café l&#039;Astronef
X-ORIGINAL-URL:https://cafe-lastronef.fr
X-WR-CALDESC:évènements pour Café l&#039;Astronef
REFRESH-INTERVAL;VALUE=DURATION:PT1H
X-Robots-Tag:noindex
X-PUBLISHED-TTL:PT1H
BEGIN:VTIMEZONE
TZID:Europe/Paris
BEGIN:DAYLIGHT
TZOFFSETFROM:+0100
TZOFFSETTO:+0200
TZNAME:CEST
DTSTART:20260329T010000
END:DAYLIGHT
BEGIN:STANDARD
TZOFFSETFROM:+0200
TZOFFSETTO:+0100
TZNAME:CET
DTSTART:20261025T010000
END:STANDARD
END:VTIMEZONE
BEGIN:VEVENT
DTSTART;TZID=Europe/Paris:20260422T150000
DTEND;TZID=Europe/Paris:20260422T180000
DTSTAMP:20260422T013230
CREATED:20240819T102035Z
LAST-MODIFIED:20240819T102035Z
UID:20930-1776870000-1776880800@cafe-lastronef.fr
SUMMARY:Réparation vélo avec Vélo Bonjour
DESCRIPTION:Chaque mercredi \, Velo Bonjour investit la terrasse de 15h à 18h !\nTa roue de vélo est voilée ? Tes freins ne fonctionnent plus ? Ta chaine grince des dents ? Ramènes donc ton vélo \, Saladin s’en occupera pour toi\, et tu pourras même patienter en sirotant la boisson de ton choix sous les platanes!\nPrix libre + prix des pièces changées.\nEt pour celles et ceux qui cherchent encore pédale à leur pied\, Saladin ramène chaque mercredi quelques vélos d’occasion\, réparés par ses soins\, à essayer sur place !
URL:https://cafe-lastronef.fr/programmation/reparation-velo-avec-velo-bonjour/2026-04-22/
LOCATION:L’Astronef\, 3 place des avions\, Toulouse\, 31400\, France
ATTACH;FMTTYPE=image/jpeg:https://cafe-lastronef.fr/wp-content/uploads/2023/10/REPARATION-VELOS-e1698520753590.jpg
ORGANIZER;CN="Caf%C3%A9 L'Astronef":MAILTO:info@cafe-lastronef.fr
END:VEVENT
BEGIN:VEVENT
DTSTART;TZID=Europe/Paris:20260422T203000
DTEND;TZID=Europe/Paris:20260422T203000
DTSTAMP:20260422T013230
CREATED:20260403T082027Z
LAST-MODIFIED:20260403T082027Z
UID:22513-1776889800-1776889800@cafe-lastronef.fr
SUMMARY:Lukaraoké
DESCRIPTION:Y’a un piano\, y’a un pianiste. Y’a une liste avec des titres de chansons. Y’a des chansons françaises et puis des chansons pas françaises. Y’a trop de chansons pour imprimer toutes les paroles alors y’a un vidéoprojecteur pour les afficher en grand pour tout le monde. Et puis y’a toujours des gens qui veulent chanter : seul·e·s\, à deux\, à trois ou à plein ! \nAlors on s’inscrit sur une petite liste\, on attend son tour en écoutant les autres chanter et puis on vient entonner son p’tit air choisi ! \nAu Lukaraoké\, y’a pas de bande son avec le texte qui défile sur des décors de cocotiers ou de vagues qui s’écrasent contre des falaises mais y’a Lucas au piano qui peut s’adapter à votre hauteur de voix\, vous attendre et même vous aider quand vous en avez besoin !
URL:https://cafe-lastronef.fr/programmation/lukaraoke-18/
LOCATION:L’Astronef\, 3 place des avions\, Toulouse\, 31400\, France
ATTACH;FMTTYPE=image/png:https://cafe-lastronef.fr/wp-content/uploads/2023/08/16_09_23lukaraoke-e1693316686521.png
ORGANIZER;CN="Caf%C3%A9 L'Astronef":MAILTO:info@cafe-lastronef.fr
END:VEVENT
END:VCALENDAR